BEGIN:VCALENDAR
VERSION:2.0
PRODID:-//Lovington, NM - ECPv6.13.2.1//NONSGML v1.0//EN
CALSCALE:GREGORIAN
METHOD:PUBLISH
X-WR-CALNAME:Lovington, NM
X-ORIGINAL-URL:https://www.lovington.us
X-WR-CALDESC:Events for Lovington, NM
REFRESH-INTERVAL;VALUE=DURATION:PT1H
X-Robots-Tag:noindex
X-PUBLISHED-TTL:PT1H
BEGIN:VTIMEZONE
TZID:America/Chicago
BEGIN:DAYLIGHT
TZOFFSETFROM:-0600
TZOFFSETTO:-0500
TZNAME:CDT
DTSTART:20160313T080000
END:DAYLIGHT
BEGIN:STANDARD
TZOFFSETFROM:-0500
TZOFFSETTO:-0600
TZNAME:CST
DTSTART:20161106T070000
END:STANDARD
END:VTIMEZONE
BEGIN:VEVENT
DTSTART;TZID=America/Chicago:20160408T120000
DTEND;TZID=America/Chicago:20160417T000000
DTSTAMP:20260423T105525
CREATED:20160407T170842Z
LAST-MODIFIED:20160407T170842Z
UID:1109-1460116800-1460851200@www.lovington.us
SUMMARY:Wright's Carnival
DESCRIPTION:The Annual Wright’s Amusements Carnival is back Friday April 8th – April 17th. Don’t miss out on the fun! \nDaily Schedules:\nMonday-Thursday: 5pm-11pm\nFridays: 4pm-12am\nSaturday-Sunday: 12pm-12am. \nPricing:\n$25.00 for an all day ride wristband\n$1.00 per individual ride ticket\nAll games and food are CASH \nFor Wednesday the 13th the Carnival will be offering $5.00 off wristbands for all patrons who bring in at least 2 canned goods. \nMore information on Facebook.
URL:https://www.lovington.us/event/wrights-carnival
LOCATION:Lea County Event Center\, 5101 N Lovington Hwy\, Hobbs\, NM\, 88240\, United States
ATTACH;FMTTYPE=image/jpeg:https://www.lovington.us/wp-content/uploads/2016/04/carnival.jpg
END:VEVENT
END:VCALENDAR